View In:
ArcGIS JavaScript
ArcGIS Online Map Viewer
ArcGIS Earth
ArcGIS Pro
Service Description: We’ve compiled critical habitat and distribution data for aquatic species listed under the Species at Risk Act (SARA). This map is intended to provide an overview of the distribution of aquatic species at risk and the presence of their critical habitat within Canadian waters. The official source of information is the Species at Risk Public Registry.
If you encounter an aquatic species at risk in an area that isn’t currently mapped, please notify your regional Fisheries Protection Program office to ensure that you’re compliant with SARA.
Nous avons compilé des données sur l’habitat essentiel et la répartition des espèces aquatiques inscrites en vertu de la Loi sur les espèces en péril (LEP). Cette carte vise à fournir un aperçu de la répartition des espèces aquatiques en péril et de la présence de leur habitat essentiel dans les eaux canadiennes. La source d’information officielle est le Registre public des espèces en péril.
Si vous rencontrez une espèce en péril dans une région non-cartographiée, veuillez en aviser votre bureau régional du Programme de protection des pêches afin d’assurer votre conformité avec la LEP.
Map Name: CNFASAR CachedTiles Public
Legend
All Layers and Tables
Dynamic Legend
Dynamic All Layers
Layers:
Description: We’ve compiled critical habitat and distribution data for aquatic species listed under the Species at Risk Act (SARA). This map is intended to provide an overview of the distribution of aquatic species at risk and the presence of their critical habitat within Canadian waters. The official source of information is the Species at Risk Public Registry.If you encounter an aquatic species at risk in an area that isn’t currently mapped, please notify your regional Fisheries Protection Program office to ensure that you’re compliant with SARA.Nous avons compilé des données sur l’habitat essentiel et la répartition des espèces aquatiques inscrites en vertu de la Loi sur les espèces en péril (LEP). Cette carte vise à fournir un aperçu de la répartition des espèces aquatiques en péril et de la présence de leur habitat essentiel dans les eaux canadiennes. La source d’information officielle est le Registre public des espèces en péril.Si vous rencontrez une espèce en péril dans une région non-cartographiée, veuillez en aviser votre bureau régional du Programme de protection des pêches afin d’assurer votre conformité avec la LEP.
Service Item Id: b816ec6368c14775991f0d5288fe7216
Copyright Text: Government of Canada; Fisheries and Oceans Canada; Integrated Oceans Management Gouvernement du Canada; Pêches et Océans Canada; Gestion Intégrée des Océans
Spatial Reference:
102100
(3857)
Single Fused Map Cache: true
Tile Info:
- Height: 256
- Width: 256
- DPI: 96
-
Levels of Detail: 24
-
Level ID: 1
[ Start Tile, End Tile ]
- Resolution: 78271.5169639999
- Scale: 2.95828763795777E8
-
Level ID: 2
[ Start Tile, End Tile ]
- Resolution: 39135.7584820001
- Scale: 1.47914381897889E8
-
Level ID: 3
[ Start Tile, End Tile ]
- Resolution: 19567.8792409999
- Scale: 7.3957190948944E7
-
Level ID: 4
[ Start Tile, End Tile ]
- Resolution: 9783.93962049996
- Scale: 3.6978595474472E7
-
Level ID: 5
[ Start Tile, End Tile ]
- Resolution: 4891.96981024998
- Scale: 1.8489297737236E7
- Format: PNG
- Compression Quality: 0.0
- Origin: X: -2.0037508342787E7
Y: 2.0037508342787E7
- Spatial Reference: 102100
(3857)
Storage Info:
- Storage Format: esriMapCacheStorageModeCompactV2
- Packet Size: 128
Initial Extent:
XMin: -1.4100209365261784E7
YMin: 5862540.742845821
XMax: -1.3134385479778973E7
YMax: 6707508.617207772
Spatial Reference: 102100
(3857)
Full Extent:
XMin: -1.5696151372029444E7
YMin: 4872254.326899998
XMax: -5309664.346899999
YMax: 1.3589463466300003E7
Spatial Reference: 102100
(3857)
Units: esriMeters
Supported Image Format Types: PNG32,PNG24,PNG,JPG,DIB,TIFF,EMF,PS,PDF,GIF,SVG,SVGZ,BMP
Document Info:
Title: CNFASAR CachedTiles Public
Author:
Comments: We’ve compiled critical habitat and distribution data for aquatic species listed under the Species at Risk Act (SARA). This map is intended to provide an overview of the distribution of aquatic species at risk and the presence of their critical habitat within Canadian waters. The official source of information is the Species at Risk Public Registry.If you encounter an aquatic species at risk in an area that isn’t currently mapped, please notify your regional Fisheries Protection Program office to ensure that you’re compliant with SARA.Nous avons compilé des données sur l’habitat essentiel et la répartition des espèces aquatiques inscrites en vertu de la Loi sur les espèces en péril (LEP). Cette carte vise à fournir un aperçu de la répartition des espèces aquatiques en péril et de la présence de leur habitat essentiel dans les eaux canadiennes. La source d’information officielle est le Registre public des espèces en péril.Si vous rencontrez une espèce en péril dans une région non-cartographiée, veuillez en aviser votre bureau régional du Programme de protection des pêches afin d’assurer votre conformité avec la LEP.
Subject: SARA data in support of the CNFASAR app
Category:
Keywords: dfo,mpo,dfo-mpo,cnfasar,sara
AntialiasingMode: Fast
TextAntialiasingMode: Force
Supports Dynamic Layers: true
MaxRecordCount: 2000
MaxImageHeight: 4096
MaxImageWidth: 4096
Supported Query Formats: JSON, geoJSON, PBF
Supports Query Data Elements: true
Min Scale: 5.91657527591555E8
Max Scale: 144447.638572
Min LOD: 0
Max LOD: 12
Supports Datum Transformation: true
Child Resources:
Info
Dynamic Layer
Supported Operations:
Export Map
Identify
QueryLegends
QueryDomains
Find
Return Updates